Workbook

Sheet Conteo físico
A1: FORMATO DE CONTEO FÍSICO DE INVENTARIO
A2: Rellena las columnas blancas. Las verdes se calculan solas. Conteo 2 solo si hay que recontar.
A3: Almacén: | C3: Fecha: | E3: Responsable:
A5: CÓDIGO | B5: DESCRIPCIÓN | C5: UBICACIÓN | D5: UNIDAD | E5: EXISTENCIA SISTEMA | F5: CONTEO 1 | G5: CONTEO 2 | H5: CONTEO FINAL | I5: DIFERENCIA | J5: DIF. % | K5: COSTO UNITARIO | L5: VALOR DIFERENCIA | M5: ESTADO
A6: 7591234000017 | B6: CAMISA CABALLERO M/L OXFORD | C6: A-01 | D6: UND | E6: 24 | F6: 24 | H6: =IF(A6="","",IF(G6<>"",G6,F6)) | I6: =IF(OR(A6="",H6=""),"",H6-E6) | J6: =IF(OR(I6="",E6=0),"",I6/E6) | K6: 12.5 | L6: =IF(OR(I6="",K6=""),"",I6*K6) | M6: =IF(I6="","",IF(I6=0,"OK",IF(I6>0,"SOBRANTE","FALTANTE")))
A7: 7591234000024 | B7: PANTALÓN JEAN DAMA STRETCH | C7: A-02 | D7: UND | E7: 18 | F7: 16 | G7: 15 | H7: =IF(A7="","",IF(G7<>"",G7,F7)) | I7: =IF(OR(A7="",H7=""),"",H7-E7) | J7: =IF(OR(I7="",E7=0),"",I7/E7) | K7: 19.9 | L7: =IF(OR(I7="",K7=""),"",I7*K7) | M7: =IF(I7="","",IF(I7=0,"OK",IF(I7>0,"SOBRANTE","FALTANTE")))
A8: 7591234000031 | B8: PERFUME EDP 100ML | C8: B-05 | D8: UND | E8: 12 | F8: 13 | H8: =IF(A8="","",IF(G8<>"",G8,F8)) | I8: =IF(OR(A8="",H8=""),"",H8-E8) | J8: =IF(OR(I8="",E8=0),"",I8/E8) | K8: 35 | L8: =IF(OR(I8="",K8=""),"",I8*K8) | M8: =IF(I8="","",IF(I8=0,"OK",IF(I8>0,"SOBRANTE","FALTANTE")))
H9: =IF(A9="","",IF(G9<>"",G9,F9)) | I9: =IF(OR(A9="",H9=""),"",H9-E9) | J9: =IF(OR(I9="",E9=0),"",I9/E9) | L9: =IF(OR(I9="",K9=""),"",I9*K9) | M9: =IF(I9="","",IF(I9=0,"OK",IF(I9>0,"SOBRANTE","FALTANTE")))
H10: =IF(A10="","",IF(G10<>"",G10,F10)) | I10: =IF(OR(A10="",H10=""),"",H10-E10) | J10: =IF(OR(I10="",E10=0),"",I10/E10) | L10: =IF(OR(I10="",K10=""),"",I10*K10) | M10: =IF(I10="","",IF(I10=0,"OK",IF(I10>0,"SOBRANTE","FALTANTE")))
H11: =IF(A11="","",IF(G11<>"",G11,F11)) | I11: =IF(OR(A11="",H11=""),"",H11-E11) | J11: =IF(OR(I11="",E11=0),"",I11/E11) | L11: =IF(OR(I11="",K11=""),"",I11*K11) | M11: =IF(I11="","",IF(I11=0,"OK",IF(I11>0,"SOBRANTE","FALTANTE")))
H12: =IF(A12="","",IF(G12<>"",G12,F12)) | I12: =IF(OR(A12="",H12=""),"",H12-E12) | J12: =IF(OR(I12="",E12=0),"",I12/E12) | L12: =IF(OR(I12="",K12=""),"",I12*K12) | M12: =IF(I12="","",IF(I12=0,"OK",IF(I12>0,"SOBRANTE","FALTANTE")))
H13: =IF(A13="","",IF(G13<>"",G13,F13)) | I13: =IF(OR(A13="",H13=""),"",H13-E13) | J13: =IF(OR(I13="",E13=0),"",I13/E13) | L13: =IF(OR(I13="",K13=""),"",I13*K13) | M13: =IF(I13="","",IF(I13=0,"OK",IF(I13>0,"SOBRANTE","FALTANTE")))
H14: =IF(A14="","",IF(G14<>"",G14,F14)) | I14: =IF(OR(A14="",H14=""),"",H14-E14) | J14: =IF(OR(I14="",E14=0),"",I14/E14) | L14: =IF(OR(I14="",K14=""),"",I14*K14) | M14: =IF(I14="","",IF(I14=0,"OK",IF(I14>0,"SOBRANTE","FALTANTE")))
H15: =IF(A15="","",IF(G15<>"",G15,F15)) | I15: =IF(OR(A15="",H15=""),"",H15-E15) | J15: =IF(OR(I15="",E15=0),"",I15/E15) | L15: =IF(OR(I15="",K15=""),"",I15*K15) | M15: =IF(I15="","",IF(I15=0,"OK",IF(I15>0,"SOBRANTE","FALTANTE")))
H16: =IF(A16="","",IF(G16<>"",G16,F16)) | I16: =IF(OR(A16="",H16=""),"",H16-E16) | J16: =IF(OR(I16="",E16=0),"",I16/E16) | L16: =IF(OR(I16="",K16=""),"",I16*K16) | M16: =IF(I16="","",IF(I16=0,"OK",IF(I16>0,"SOBRANTE","FALTANTE")))
H17: =IF(A17="","",IF(G17<>"",G17,F17)) | I17: =IF(OR(A17="",H17=""),"",H17-E17) | J17: =IF(OR(I17="",E17=0),"",I17/E17) | L17: =IF(OR(I17="",K17=""),"",I17*K17) | M17: =IF(I17="","",IF(I17=0,"OK",IF(I17>0,"SOBRANTE","FALTANTE")))
H18: =IF(A18="","",IF(G18<>"",G18,F18)) | I18: =IF(OR(A18="",H18=""),"",H18-E18) | J18: =IF(OR(I18="",E18=0),"",I18/E18) | L18: =IF(OR(I18="",K18=""),"",I18*K18) | M18: =IF(I18="","",IF(I18=0,"OK",IF(I18>0,"SOBRANTE","FALTANTE")))
H19: =IF(A19="","",IF(G19<>"",G19,F19)) | I19: =IF(OR(A19="",H19=""),"",H19-E19) | J19: =IF(OR(I19="",E19=0),"",I19/E19) | L19: =IF(OR(I19="",K19=""),"",I19*K19) | M19: =IF(I19="","",IF(I19=0,"OK",IF(I19>0,"SOBRANTE","FALTANTE")))
H20: =IF(A20="","",IF(G20<>"",G20,F20)) | I20: =IF(OR(A20="",H20=""),"",H20-E20) | J20: =IF(OR(I20="",E20=0),"",I20/E20) | L20: =IF(OR(I20="",K20=""),"",I20*K20) | M20: =IF(I20="","",IF(I20=0,"OK",IF(I20>0,"SOBRANTE","FALTANTE")))
... H305: =IF(A305="","",IF(G305<>"",G305,F305)) | I305: =IF(OR(A305="",H305=""),"",H305-E305) | J305: =IF(OR(I305="",E305=0),"",I305/E305) | L305: =IF(OR(I305="",K305=""),"",I305*K305) | M305: =IF(I305="","",IF(I305=0,"OK",IF(I305>0,"SOBRANTE","FALTANTE")))
A307: Plantilla gratuita de Xcelll · xcelll.online — convierte tus reportes PDF a Excel sin subir archivos

Sheet Resumen
A1: RESUMEN DEL CONTEO
A2: Se actualiza solo con los datos de la hoja «Conteo físico».
A4: Productos contados | B4: =COUNTIF('Conteo físico'!H6:H305,">=0")
A5: Productos sin diferencia (OK) | B5: =COUNTIF('Conteo físico'!M6:M305,"OK")
A6: Productos con faltante | B6: =COUNTIF('Conteo físico'!M6:M305,"FALTANTE")
A7: Productos con sobrante | B7: =COUNTIF('Conteo físico'!M6:M305,"SOBRANTE")
A8: Exactitud del inventario | B8: =IF(B4=0,"",B5/B4)
A9: Valor de faltantes | B9: =SUMIF('Conteo físico'!L6:L305,"<0")
A10: Valor de sobrantes | B10: =SUMIF('Conteo físico'!L6:L305,">0")
A11: Diferencia neta (valor) | B11: =B9+B10

Sheet Instrucciones
A1: CÓMO USAR ESTE FORMATO
A4: 1. Exporta del sistema el reporte de existencias en PDF y conviértelo a Excel gratis en xcelll.online.
A5: 2. Copia CÓDIGO, DESCRIPCIÓN, UBICACIÓN y EXISTENCIA SISTEMA en la hoja «Conteo físico».
A6: 3. Imprime la hoja o úsala en una tablet y anota el CONTEO 1 de cada producto.
A7: 4. Si hay diferencia, haz un segundo conteo y anótalo en CONTEO 2 (tiene prioridad sobre el primero).
A8: 5. Filtra la columna ESTADO por FALTANTE o SOBRANTE para revisar solo lo que no cuadra.
A9: 6. La hoja «Resumen» te da la exactitud del inventario y el valor de las diferencias.
A10: Consejo: no borres las fórmulas de las columnas verdes. Si necesitas más filas, copia la última fila hacia abajo.
