Workbook

Sheet Productos
A1: PLANTILLA DE INVENTARIO: ENTRADAS, SALIDAS Y STOCK
A2: Registra tus productos aquí y los movimientos en la hoja «Movimientos». El stock se calcula solo.
A4: CÓDIGO | B4: DESCRIPCIÓN | C4: CATEGORÍA | D4: UNIDAD | E4: STOCK INICIAL | F4: ENTRADAS | G4: SALIDAS | H4: STOCK ACTUAL | I4: STOCK MÍNIMO | J4: COSTO UNITARIO | K4: VALOR STOCK | L4: ALERTA
A5: 7591234000017 | B5: CAMISA CABALLERO M/L OXFORD | C5: ROPA | D5: UND | E5: 40 | F5: =IF(A5="","",SUMIFS(Movimientos!$E:$E,Movimientos!$B:$B,A5,Movimientos!$C:$C,"ENTRADA")) | G5: =IF(A5="","",SUMIFS(Movimientos!$E:$E,Movimientos!$B:$B,A5,Movimientos!$C:$C,"SALIDA")) | H5: =IF(A5="","",E5+F5-G5) | I5: 10 | J5: 12.5 | K5: =IF(OR(A5="",J5=""),"",H5*J5) | L5: =IF(OR(A5="",I5=""),"",IF(H5<=0,"SIN STOCK",IF(H5<=I5,"REPONER","OK")))
A6: 7591234000024 | B6: PANTALÓN JEAN DAMA STRETCH | C6: ROPA | D6: UND | E6: 25 | F6: =IF(A6="","",SUMIFS(Movimientos!$E:$E,Movimientos!$B:$B,A6,Movimientos!$C:$C,"ENTRADA")) | G6: =IF(A6="","",SUMIFS(Movimientos!$E:$E,Movimientos!$B:$B,A6,Movimientos!$C:$C,"SALIDA")) | H6: =IF(A6="","",E6+F6-G6) | I6: 8 | J6: 19.9 | K6: =IF(OR(A6="",J6=""),"",H6*J6) | L6: =IF(OR(A6="",I6=""),"",IF(H6<=0,"SIN STOCK",IF(H6<=I6,"REPONER","OK")))
A7: 7591234000031 | B7: PERFUME EDP 100ML | C7: PERFUMERÍA | D7: UND | E7: 12 | F7: =IF(A7="","",SUMIFS(Movimientos!$E:$E,Movimientos!$B:$B,A7,Movimientos!$C:$C,"ENTRADA")) | G7: =IF(A7="","",SUMIFS(Movimientos!$E:$E,Movimientos!$B:$B,A7,Movimientos!$C:$C,"SALIDA")) | H7: =IF(A7="","",E7+F7-G7) | I7: 5 | J7: 35 | K7: =IF(OR(A7="",J7=""),"",H7*J7) | L7: =IF(OR(A7="",I7=""),"",IF(H7<=0,"SIN STOCK",IF(H7<=I7,"REPONER","OK")))
F8: =IF(A8="","",SUMIFS(Movimientos!$E:$E,Movimientos!$B:$B,A8,Movimientos!$C:$C,"ENTRADA")) | G8: =IF(A8="","",SUMIFS(Movimientos!$E:$E,Movimientos!$B:$B,A8,Movimientos!$C:$C,"SALIDA")) | H8: =IF(A8="","",E8+F8-G8) | K8: =IF(OR(A8="",J8=""),"",H8*J8) | L8: =IF(OR(A8="",I8=""),"",IF(H8<=0,"SIN STOCK",IF(H8<=I8,"REPONER","OK")))
F9: =IF(A9="","",SUMIFS(Movimientos!$E:$E,Movimientos!$B:$B,A9,Movimientos!$C:$C,"ENTRADA")) | G9: =IF(A9="","",SUMIFS(Movimientos!$E:$E,Movimientos!$B:$B,A9,Movimientos!$C:$C,"SALIDA")) | H9: =IF(A9="","",E9+F9-G9) | K9: =IF(OR(A9="",J9=""),"",H9*J9) | L9: =IF(OR(A9="",I9=""),"",IF(H9<=0,"SIN STOCK",IF(H9<=I9,"REPONER","OK")))
F10: =IF(A10="","",SUMIFS(Movimientos!$E:$E,Movimientos!$B:$B,A10,Movimientos!$C:$C,"ENTRADA")) | G10: =IF(A10="","",SUMIFS(Movimientos!$E:$E,Movimientos!$B:$B,A10,Movimientos!$C:$C,"SALIDA")) | H10: =IF(A10="","",E10+F10-G10) | K10: =IF(OR(A10="",J10=""),"",H10*J10) | L10: =IF(OR(A10="",I10=""),"",IF(H10<=0,"SIN STOCK",IF(H10<=I10,"REPONER","OK")))
F11: =IF(A11="","",SUMIFS(Movimientos!$E:$E,Movimientos!$B:$B,A11,Movimientos!$C:$C,"ENTRADA")) | G11: =IF(A11="","",SUMIFS(Movimientos!$E:$E,Movimientos!$B:$B,A11,Movimientos!$C:$C,"SALIDA")) | H11: =IF(A11="","",E11+F11-G11) | K11: =IF(OR(A11="",J11=""),"",H11*J11) | L11: =IF(OR(A11="",I11=""),"",IF(H11<=0,"SIN STOCK",IF(H11<=I11,"REPONER","OK")))
F12: =IF(A12="","",SUMIFS(Movimientos!$E:$E,Movimientos!$B:$B,A12,Movimientos!$C:$C,"ENTRADA")) | G12: =IF(A12="","",SUMIFS(Movimientos!$E:$E,Movimientos!$B:$B,A12,Movimientos!$C:$C,"SALIDA")) | H12: =IF(A12="","",E12+F12-G12) | K12: =IF(OR(A12="",J12=""),"",H12*J12) | L12: =IF(OR(A12="",I12=""),"",IF(H12<=0,"SIN STOCK",IF(H12<=I12,"REPONER","OK")))
F13: =IF(A13="","",SUMIFS(Movimientos!$E:$E,Movimientos!$B:$B,A13,Movimientos!$C:$C,"ENTRADA")) | G13: =IF(A13="","",SUMIFS(Movimientos!$E:$E,Movimientos!$B:$B,A13,Movimientos!$C:$C,"SALIDA")) | H13: =IF(A13="","",E13+F13-G13) | K13: =IF(OR(A13="",J13=""),"",H13*J13) | L13: =IF(OR(A13="",I13=""),"",IF(H13<=0,"SIN STOCK",IF(H13<=I13,"REPONER","OK")))
F14: =IF(A14="","",SUMIFS(Movimientos!$E:$E,Movimientos!$B:$B,A14,Movimientos!$C:$C,"ENTRADA")) | G14: =IF(A14="","",SUMIFS(Movimientos!$E:$E,Movimientos!$B:$B,A14,Movimientos!$C:$C,"SALIDA")) | H14: =IF(A14="","",E14+F14-G14) | K14: =IF(OR(A14="",J14=""),"",H14*J14) | L14: =IF(OR(A14="",I14=""),"",IF(H14<=0,"SIN STOCK",IF(H14<=I14,"REPONER","OK")))
F15: =IF(A15="","",SUMIFS(Movimientos!$E:$E,Movimientos!$B:$B,A15,Movimientos!$C:$C,"ENTRADA")) | G15: =IF(A15="","",SUMIFS(Movimientos!$E:$E,Movimientos!$B:$B,A15,Movimientos!$C:$C,"SALIDA")) | H15: =IF(A15="","",E15+F15-G15) | K15: =IF(OR(A15="",J15=""),"",H15*J15) | L15: =IF(OR(A15="",I15=""),"",IF(H15<=0,"SIN STOCK",IF(H15<=I15,"REPONER","OK")))
F16: =IF(A16="","",SUMIFS(Movimientos!$E:$E,Movimientos!$B:$B,A16,Movimientos!$C:$C,"ENTRADA")) | G16: =IF(A16="","",SUMIFS(Movimientos!$E:$E,Movimientos!$B:$B,A16,Movimientos!$C:$C,"SALIDA")) | H16: =IF(A16="","",E16+F16-G16) | K16: =IF(OR(A16="",J16=""),"",H16*J16) | L16: =IF(OR(A16="",I16=""),"",IF(H16<=0,"SIN STOCK",IF(H16<=I16,"REPONER","OK")))
F17: =IF(A17="","",SUMIFS(Movimientos!$E:$E,Movimientos!$B:$B,A17,Movimientos!$C:$C,"ENTRADA")) | G17: =IF(A17="","",SUMIFS(Movimientos!$E:$E,Movimientos!$B:$B,A17,Movimientos!$C:$C,"SALIDA")) | H17: =IF(A17="","",E17+F17-G17) | K17: =IF(OR(A17="",J17=""),"",H17*J17) | L17: =IF(OR(A17="",I17=""),"",IF(H17<=0,"SIN STOCK",IF(H17<=I17,"REPONER","OK")))
F18: =IF(A18="","",SUMIFS(Movimientos!$E:$E,Movimientos!$B:$B,A18,Movimientos!$C:$C,"ENTRADA")) | G18: =IF(A18="","",SUMIFS(Movimientos!$E:$E,Movimientos!$B:$B,A18,Movimientos!$C:$C,"SALIDA")) | H18: =IF(A18="","",E18+F18-G18) | K18: =IF(OR(A18="",J18=""),"",H18*J18) | L18: =IF(OR(A18="",I18=""),"",IF(H18<=0,"SIN STOCK",IF(H18<=I18,"REPONER","OK")))
F19: =IF(A19="","",SUMIFS(Movimientos!$E:$E,Movimientos!$B:$B,A19,Movimientos!$C:$C,"ENTRADA")) | G19: =IF(A19="","",SUMIFS(Movimientos!$E:$E,Movimientos!$B:$B,A19,Movimientos!$C:$C,"SALIDA")) | H19: =IF(A19="","",E19+F19-G19) | K19: =IF(OR(A19="",J19=""),"",H19*J19) | L19: =IF(OR(A19="",I19=""),"",IF(H19<=0,"SIN STOCK",IF(H19<=I19,"REPONER","OK")))
... F304: =IF(A304="","",SUMIFS(Movimientos!$E:$E,Movimientos!$B:$B,A304,Movimientos!$C:$C,"ENTRADA")) | G304: =IF(A304="","",SUMIFS(Movimientos!$E:$E,Movimientos!$B:$B,A304,Movimientos!$C:$C,"SALIDA")) | H304: =IF(A304="","",E304+F304-G304) | K304: =IF(OR(A304="",J304=""),"",H304*J304) | L304: =IF(OR(A304="",I304=""),"",IF(H304<=0,"SIN STOCK",IF(H304<=I304,"REPONER","OK")))
A306: Plantilla gratuita de Xcelll · xcelll.online — convierte tus reportes PDF a Excel sin subir archivos

Sheet Movimientos
A1: MOVIMIENTOS DE INVENTARIO
A2: Una fila por entrada o salida. Elige el TIPO en la lista desplegable.
A4: FECHA | B4: CÓDIGO | C4: TIPO | D4: DOCUMENTO | E4: CANTIDAD | F4: OBSERVACIÓN
A5: 46296 | B5: 7591234000017 | C5: ENTRADA | D5: REC-0672 | E5: 20 | F5: Recepción proveedor
A6: 46298 | B6: 7591234000017 | C6: SALIDA | D6: FAC-1001 | E6: 8 | F6: Venta
A7: 46299 | B7: 7591234000024 | C7: SALIDA | D7: FAC-1002 | E7: 18 | F7: Venta
A8: 46300 | B8: 7591234000031 | C8: ENTRADA | D8: REC-0673 | E8: 6 | F8: Recepción proveedor

Sheet Instrucciones
A1: CÓMO USAR ESTA PLANTILLA
A4: 1. En «Productos», escribe cada producto con su STOCK INICIAL, STOCK MÍNIMO y COSTO UNITARIO.
A5: 2. En «Movimientos», registra cada ENTRADA (compras, recepciones) o SALIDA (ventas, consumos) con su cantidad.
A6: 3. ENTRADAS, SALIDAS, STOCK ACTUAL y VALOR STOCK se calculan solos con fórmulas.
A7: 4. La columna ALERTA te avisa cuando un producto está por debajo del mínimo (REPONER) o agotado (SIN STOCK).
A8: 5. ¿Tus recepciones o reportes llegan en PDF? Conviértelos a Excel gratis en xcelll.online y pega los datos aquí.
A9: Consejo: no borres las fórmulas de las columnas verdes. Para más productos, copia la última fila hacia abajo.
